BEGIN:VCALENDAR
VERSION:2.0
PRODID:-//Tukios.com/
BEGIN:VEVENT
UID:0e719454-d0ae-4f59-8bf5-637b932d285a@www.mishlerfuneralhomes.com
DTSTAMP:20260421T190644Z
DTSTART:20260427T140000Z
DTEND:20260427T160000Z
SUMMARY:Visitation
DESCRIPTION:
URL:https://www.mishlerfuneralhomes.com/obituaries/john-d-smith
LOCATION: 2030 IN-331  Bremen IN 46506
GEO:41.4456901;-86.1356968
END:VEVENT
END:VCALENDAR