BEGIN:VCALENDAR
VERSION:2.0
PRODID:-//Tukios.com/
BEGIN:VEVENT
UID:b353d53b-5a9a-4695-9d3e-9ea3a9dd0434@www.mishlerfuneralhomes.com
DTSTAMP:20260421T191036Z
DTSTART:20260427T160000Z
DTEND:20260427T170000Z
SUMMARY:Funeral Service
DESCRIPTION:
URL:https://www.mishlerfuneralhomes.com/obituaries/john-d-smith
LOCATION: 2030 IN-331  Bremen IN 46506
GEO:41.4456901;-86.1356968
END:VEVENT
END:VCALENDAR