BEGIN:VCALENDAR
VERSION:2.0
PRODID:-//Tukios.com/
BEGIN:VEVENT
UID:b24dcef5-214f-47a3-a1de-22542b3115ab@www.mishlerfuneralhomes.com
DTSTAMP:20260421T191157Z
DTSTART:20260427
SUMMARY:Burial
DESCRIPTION:
URL:https://www.mishlerfuneralhomes.com/obituaries/john-d-smith
LOCATION: 100 East 2nd Street  Bremen IN 46506
GEO:41.4537811;-86.1465536
END:VEVENT
END:VCALENDAR